BEGIN:VCALENDAR
VERSION:2.0
PRODID:spatie/icalendar-generator
DESCRIPTION:Wydarzenia z Szkoła Podstawowa nr 23 we Włocławku
X-WR-CALDESC:Wydarzenia z Szkoła Podstawowa nr 23 we Włocławku
REFRESH-INTERVAL;VALUE=DURATION:PT1440M
X-PUBLISHED-TTL:PT1440M
BEGIN:VTIMEZONE
TZID:Europe/Warsaw
BEGIN:STANDARD
DTSTART:20241027T030000Z
TZOFFSETFROM:+0200
TZOFFSETTO:+0100
END:STANDARD
BEGIN:DAYLIGHT
DTSTART:20250330T020000Z
TZOFFSETFROM:+0100
TZOFFSETTO:+0200
END:DAYLIGHT
END:VTIMEZONE
BEGIN:VTIMEZONE
TZID:UTC
BEGIN:STANDARD
DTSTART:20250723T120808Z
TZOFFSETFROM:+0000
TZOFFSETTO:+0000
END:STANDARD
END:VTIMEZONE
BEGIN:VEVENT
UID:30-28
DTSTAMP:20260419T120808Z
SUMMARY:Wiosenna przerwa świąteczna
LOCATION:
ORGANIZER;CN=Małgorzata Bajraszewska:MAILTO:bbmb@wp.pl
DTSTART;TZID=Europe/Warsaw;VALUE=DATE:20250417
DTEND;TZID=Europe/Warsaw;VALUE=DATE:20250423
X-ALT-DESC;FMTTYPE=TEXT/HTML:
CATEGORIES:Ogólne
URL;VALUE=URI:https://sp23.wloclawek.pl/wydarzenia/wiosenna-przerwa-swiatec
 zna-2/
METHOD:PUBLISH
END:VEVENT
END:VCALENDAR